BEGIN:VCALENDAR
VERSION:2.0
PRODID:-//Tri-County Independent Living (TCIL) - ECPv6.15.20//NONSGML v1.0//EN
CALSCALE:GREGORIAN
METHOD:PUBLISH
X-ORIGINAL-URL:https://tilinet.org
X-WR-CALDESC:Events for Tri-County Independent Living (TCIL)
REFRESH-INTERVAL;VALUE=DURATION:PT1H
X-Robots-Tag:noindex
X-PUBLISHED-TTL:PT1H
BEGIN:VTIMEZONE
TZID:UTC
BEGIN:STANDARD
TZOFFSETFROM:+0000
TZOFFSETTO:+0000
TZNAME:UTC
DTSTART:20230101T000000
END:STANDARD
END:VTIMEZONE
BEGIN:VEVENT
DTSTART;TZID=UTC:20240720T140000
DTEND;TZID=UTC:20240720T170000
DTSTAMP:20260425T011010
CREATED:20240703T042844Z
LAST-MODIFIED:20240703T042844Z
UID:3729-1721484000-1721494800@tilinet.org
SUMMARY:2024 Disability Pride Fest\, Eureka
DESCRIPTION:Flyer
URL:https://tilinet.org/event/2024-disability-pride-fest-eureka/
LOCATION:Synapsis\, 1675 Union Street\, Eureka\, 95501
CATEGORIES:Community Events
ORGANIZER;CN="Alex":MAILTO:disabilitypridehumboldt@gmail.com
END:VEVENT
END:VCALENDAR