BEGIN:VCALENDAR
VERSION:2.0
PRODID:-//Tri-County Independent Living (TCIL) - ECPv6.15.20//NONSGML v1.0//EN
CALSCALE:GREGORIAN
METHOD:PUBLISH
X-ORIGINAL-URL:https://tilinet.org
X-WR-CALDESC:Events for Tri-County Independent Living (TCIL)
REFRESH-INTERVAL;VALUE=DURATION:PT1H
X-Robots-Tag:noindex
X-PUBLISHED-TTL:PT1H
BEGIN:VTIMEZONE
TZID:UTC
BEGIN:STANDARD
TZOFFSETFROM:+0000
TZOFFSETTO:+0000
TZNAME:UTC
DTSTART:20230101T000000
END:STANDARD
END:VTIMEZONE
BEGIN:VEVENT
DTSTART;TZID=UTC:20240809T103000
DTEND;TZID=UTC:20240809T143000
DTSTAMP:20260425T024808
CREATED:20240530T093712Z
LAST-MODIFIED:20240530T094406Z
UID:3449-1723199400-1723213800@tilinet.org
SUMMARY:TCIL's 2024 EXPO
DESCRIPTION:Community\, Inclusion\, And Access For All!\nJoin us to discover our community partners and resources for independent living and assistive technology. Admission is free and there will be games and prizes.
URL:https://tilinet.org/event/tcils-2024-expo/
LOCATION:Sequoia Conference Center\, 901 Myrtle Avenue\, Eureka\, 95501\, United States
CATEGORIES:TCIL Event's
ATTACH;FMTTYPE=image/png:https://tilinet.org/wp-content/uploads/TCIL-Expo-Logo-V3.png
ORGANIZER;CN="Armando P. Escobedo":MAILTO:a.escobedo@tilinet.org
END:VEVENT
BEGIN:VEVENT
DTSTART;TZID=UTC:20240816T150000
DTEND;TZID=UTC:20240816T160000
DTSTAMP:20260425T024808
CREATED:20240530T102226Z
LAST-MODIFIED:20240530T180818Z
UID:3479-1723820400-1723824000@tilinet.org
SUMMARY:TCIL’s Disability Peer Support Group – August
DESCRIPTION:Are you a person with a disability or do you identify as one? \nWould you like to work with others who have similar experiences in supporting each other? If so\, the TCIL Peer Support Group might be the right group for you. A Disability Peer is an individual with one or more of the following disabilities: Cognitive\, Mental\, Physical\, Hearing\, Vision\, Traumatic Brain Injury/Head Injury\, Learning Disability\, and Developmental Disability. \nPlease contact Anisa for the Zoom link.
URL:https://tilinet.org/event/tcils-disability-peer-support-group-august/
LOCATION:Online
CATEGORIES:TCIL Event's
ORGANIZER;CN="Armando P. Escobedo":MAILTO:a.escobedo@tilinet.org
END:VEVENT
END:VCALENDAR