BEGIN:VCALENDAR
VERSION:2.0
PRODID:-//Tri-County Independent Living (TCIL) - ECPv6.15.20//NONSGML v1.0//EN
CALSCALE:GREGORIAN
METHOD:PUBLISH
X-WR-CALNAME:Tri-County Independent Living (TCIL)
X-ORIGINAL-URL:https://tilinet.org
X-WR-CALDESC:Events for Tri-County Independent Living (TCIL)
REFRESH-INTERVAL;VALUE=DURATION:PT1H
X-Robots-Tag:noindex
X-PUBLISHED-TTL:PT1H
BEGIN:VTIMEZONE
TZID:UTC
BEGIN:STANDARD
TZOFFSETFROM:+0000
TZOFFSETTO:+0000
TZNAME:UTC
DTSTART:20240101T000000
END:STANDARD
END:VTIMEZONE
BEGIN:VEVENT
DTSTART;TZID=UTC:20250516T130000
DTEND;TZID=UTC:20250516T143000
DTSTAMP:20260424T135759
CREATED:20250212T182359Z
LAST-MODIFIED:20250311T204141Z
UID:3949-1747400400-1747405800@tilinet.org
SUMMARY:TCIL’s Emergency Plan Workshop - Del Norte County
DESCRIPTION:We are proud to announce that TRI-COUNTY INDEPENDENT LIVING will be offering an emergency plan workshop for all TCIL clients and interested community members that would like to learn how to create and implement an Emergency Plan for themselves and/or their families. You will also receive an Emergency Go Backpack at the end of the workshop to take home as a starting point for an emergency kit. This workshop will be held on the 3rd Friday of every other month. Light refreshments will be provided.
URL:https://tilinet.org/event/tcils-emergency-plan-workshop-4/
LOCATION:Rural Human Services\, 286 M St. Suite A\, Crescent City\, 95531\, United States
CATEGORIES:TCIL Event's
ORGANIZER;CN="Tara Groswird":MAILTO:tara@tilinet.org
END:VEVENT
END:VCALENDAR