BEGIN:VCALENDAR
VERSION:2.0
PRODID:-//Tri-County Independent Living (TCIL) - ECPv6.15.20//NONSGML v1.0//EN
CALSCALE:GREGORIAN
METHOD:PUBLISH
X-ORIGINAL-URL:https://tilinet.org
X-WR-CALDESC:Events for Tri-County Independent Living (TCIL)
REFRESH-INTERVAL;VALUE=DURATION:PT1H
X-Robots-Tag:noindex
X-PUBLISHED-TTL:PT1H
BEGIN:VTIMEZONE
TZID:UTC
BEGIN:STANDARD
TZOFFSETFROM:+0000
TZOFFSETTO:+0000
TZNAME:UTC
DTSTART:20240101T000000
END:STANDARD
END:VTIMEZONE
BEGIN:VEVENT
DTSTART;TZID=UTC:20250725T110000
DTEND;TZID=UTC:20250725T140000
DTSTAMP:20260424T105121
CREATED:20250529T234843Z
LAST-MODIFIED:20250711T154433Z
UID:4269-1753441200-1753452000@tilinet.org
SUMMARY:TCIL Presents : 1st Annual Del Norte Disability Pride Block Party
DESCRIPTION:Save the Date! \nDel Norte Disability Pride Block Party \nFriday\,July 25th\, 2025 \n11:00AM-2:00PM \n286 M. St.\, Suite C\, \nCrescent City\, CA \nYou’re invited to join us as we celebrate Disability Pride Month! Come honor the rich history\, remarkable achievements\, and lived experiences of the disability community. This event will also help raise important awareness about the ongoing challenges many individuals face. \nWe’ll have a fun-filled day with: \n\nA Raffle with exciting prizes\nDelicious Food options\nLive Music to enjoy\nA variety of Arts & Crafts Vendors\n\nWe look forward to celebrating with you! \nSponsorship Opportunities Available:  \nSponsorship Form Link \nSign up to table at this event
URL:https://tilinet.org/event/tcil-presents-1st-annual-del-norte-disability-pride-block-party/
LOCATION:TCIL Del Norte\, 286 M Street\, Suite C\, Crescent City\, CA\, 95531\, United States
CATEGORIES:Community Events,TCIL Event's
ORGANIZER;CN="Dora Bernal":MAILTO:dora@tilinet.org
END:VEVENT
END:VCALENDAR