BEGIN:VCALENDAR
VERSION:2.0
PRODID:-//Tri-County Independent Living (TCIL) - ECPv6.15.20//NONSGML v1.0//EN
CALSCALE:GREGORIAN
METHOD:PUBLISH
X-WR-CALNAME:Tri-County Independent Living (TCIL)
X-ORIGINAL-URL:https://tilinet.org
X-WR-CALDESC:Events for Tri-County Independent Living (TCIL)
REFRESH-INTERVAL;VALUE=DURATION:PT1H
X-Robots-Tag:noindex
X-PUBLISHED-TTL:PT1H
BEGIN:VTIMEZONE
TZID:UTC
BEGIN:STANDARD
TZOFFSETFROM:+0000
TZOFFSETTO:+0000
TZNAME:UTC
DTSTART:20230101T000000
END:STANDARD
END:VTIMEZONE
BEGIN:VEVENT
DTSTART;TZID=UTC:20250725T110000
DTEND;TZID=UTC:20250725T140000
DTSTAMP:20260424T104951
CREATED:20250529T234843Z
LAST-MODIFIED:20250711T154433Z
UID:4269-1753441200-1753452000@tilinet.org
SUMMARY:TCIL Presents : 1st Annual Del Norte Disability Pride Block Party
DESCRIPTION:Save the Date! \nDel Norte Disability Pride Block Party \nFriday\,July 25th\, 2025 \n11:00AM-2:00PM \n286 M. St.\, Suite C\, \nCrescent City\, CA \nYou’re invited to join us as we celebrate Disability Pride Month! Come honor the rich history\, remarkable achievements\, and lived experiences of the disability community. This event will also help raise important awareness about the ongoing challenges many individuals face. \nWe’ll have a fun-filled day with: \n\nA Raffle with exciting prizes\nDelicious Food options\nLive Music to enjoy\nA variety of Arts & Crafts Vendors\n\nWe look forward to celebrating with you! \nSponsorship Opportunities Available:  \nSponsorship Form Link \nSign up to table at this event
URL:https://tilinet.org/event/tcil-presents-1st-annual-del-norte-disability-pride-block-party/
LOCATION:TCIL Del Norte\, 286 M Street\, Suite C\, Crescent City\, CA\, 95531\, United States
CATEGORIES:Community Events,TCIL Event's
ORGANIZER;CN="Dora Bernal":MAILTO:dora@tilinet.org
END:VEVENT
BEGIN:VEVENT
DTSTART;TZID=UTC:20250718T130000
DTEND;TZID=UTC:20250718T143000
DTSTAMP:20260424T104951
CREATED:20250212T182822Z
LAST-MODIFIED:20250311T204519Z
UID:3957-1752843600-1752849000@tilinet.org
SUMMARY:TCIL’s Emergency Plan Workshop - Del Norte County
DESCRIPTION:We are proud to announce that TRI-COUNTY INDEPENDENT LIVING will be offering an emergency plan workshop for all TCIL clients and interested community members that would like to learn how to create and implement an Emergency Plan for themselves and/or their families. You will also receive an Emergency Go Backpack at the end of the workshop to take home as a starting point for an emergency kit. This workshop will be held on the 3rd Friday of every other month. Light refreshments will be provided. \n 
URL:https://tilinet.org/event/tcils-emergency-plan-workshop-6/
LOCATION:Rural Human Services\, 286 M St. Suite A\, Crescent City\, 95531\, United States
CATEGORIES:TCIL Event's
ORGANIZER;CN="Tara Groswird":MAILTO:tara@tilinet.org
END:VEVENT
BEGIN:VEVENT
DTSTART;VALUE=DATE:20250704
DTEND;VALUE=DATE:20250705
DTSTAMP:20260424T104951
CREATED:20250322T081526Z
LAST-MODIFIED:20250322T081526Z
UID:4046-1751587200-1751673599@tilinet.org
SUMMARY:Offices Closed - Independence Day
DESCRIPTION:
URL:https://tilinet.org/event/offices-closed-independence-day/
CATEGORIES:TCIL Event's
END:VEVENT
BEGIN:VEVENT
DTSTART;TZID=UTC:20250626T170000
DTEND;TZID=UTC:20250626T180000
DTSTAMP:20260424T104951
CREATED:20250529T233738Z
LAST-MODIFIED:20250529T234021Z
UID:4262-1750957200-1750960800@tilinet.org
SUMMARY:TCIL Presents: Crescent City & Del Norte County Chamber of Commerce June\, 2025 Mixer
DESCRIPTION:Tri-County Independent Living and the Crescent City & Del Norte County Chamber of Commerce invite you to come mix and mingle and learn about our mission and upcoming events! \nLight Food\, Drinks\, and Raffles Prizes! \nDownload Flyer Below: \nDN Mixer Flyer 2025
URL:https://tilinet.org/event/tcil-presents/
LOCATION:TCIL Del Norte\, 286 M Street\, Suite C\, Crescent City\, CA\, 95531\, United States
CATEGORIES:Community Events,TCIL Event's
ORGANIZER;CN="Dora Bernal":MAILTO:dora@tilinet.org
END:VEVENT
BEGIN:VEVENT
DTSTART;TZID=UTC:20250620T130000
DTEND;TZID=UTC:20250620T143000
DTSTAMP:20260424T104951
CREATED:20250212T182551Z
LAST-MODIFIED:20250311T204315Z
UID:3955-1750424400-1750429800@tilinet.org
SUMMARY:TCIL’s Emergency Plan Workshop - Humboldt County
DESCRIPTION:We are proud to announce that TRI-COUNTY INDEPENDENT LIVING will be offering an emergency plan workshop for all TCIL clients and interested community members that would like to learn how to create and implement an Emergency Plan for themselves and/or their families. You will also receive an Emergency Go Backpack at the end of the workshop to take home as a starting point for an emergency kit. This workshop will be held on the 3rd Friday of every other month. Light refreshments will be provided. \n 
URL:https://tilinet.org/event/tcils-emergency-plan-workshop-5/
LOCATION:TCIL Eureka\, 139 Fifth St.\, Eureka\, CA\, 95501\, United States
CATEGORIES:TCIL Event's
ORGANIZER;CN="Tara Groswird":MAILTO:tara@tilinet.org
END:VEVENT
BEGIN:VEVENT
DTSTART;TZID=UTC:20250529T080000
DTEND;TZID=UTC:20250529T170000
DTSTAMP:20260424T104951
CREATED:20250529T232451Z
LAST-MODIFIED:20250529T232452Z
UID:4256-1748505600-1748538000@tilinet.org
SUMMARY:TCIL Presents - Crescent City & Del Norte County Chamber of Commerce Mixer
DESCRIPTION:DN Mixer Flyer 2025
URL:https://tilinet.org/event/tcil-presents-crescent-city-del-norte-county-chamber-of-commerce-mixer/
END:VEVENT
BEGIN:VEVENT
DTSTART;VALUE=DATE:20250526
DTEND;VALUE=DATE:20250527
DTSTAMP:20260424T104951
CREATED:20250322T081340Z
LAST-MODIFIED:20250322T081348Z
UID:4044-1748217600-1748303999@tilinet.org
SUMMARY:Offices Closed - Memorial Day
DESCRIPTION:
URL:https://tilinet.org/event/offices-closed-memorial-day/
CATEGORIES:TCIL Event's
END:VEVENT
BEGIN:VEVENT
DTSTART;TZID=UTC:20250516T130000
DTEND;TZID=UTC:20250516T143000
DTSTAMP:20260424T104951
CREATED:20250212T182359Z
LAST-MODIFIED:20250311T204141Z
UID:3949-1747400400-1747405800@tilinet.org
SUMMARY:TCIL’s Emergency Plan Workshop - Del Norte County
DESCRIPTION:We are proud to announce that TRI-COUNTY INDEPENDENT LIVING will be offering an emergency plan workshop for all TCIL clients and interested community members that would like to learn how to create and implement an Emergency Plan for themselves and/or their families. You will also receive an Emergency Go Backpack at the end of the workshop to take home as a starting point for an emergency kit. This workshop will be held on the 3rd Friday of every other month. Light refreshments will be provided.
URL:https://tilinet.org/event/tcils-emergency-plan-workshop-4/
LOCATION:Rural Human Services\, 286 M St. Suite A\, Crescent City\, 95531\, United States
CATEGORIES:TCIL Event's
ORGANIZER;CN="Tara Groswird":MAILTO:tara@tilinet.org
END:VEVENT
BEGIN:VEVENT
DTSTART;TZID=UTC:20250515T120000
DTEND;TZID=UTC:20250515T130000
DTSTAMP:20260424T104951
CREATED:20250228T222637Z
LAST-MODIFIED:20250228T222637Z
UID:4007-1747310400-1747314000@tilinet.org
SUMMARY:TCIL Board of Directors Meeting
DESCRIPTION:
URL:https://tilinet.org/event/tcil-board-of-directors-meeting-4/
LOCATION:TCIL Eureka\, 139 Fifth St.\, Eureka\, CA\, 95501\, United States
CATEGORIES:TCIL Event's
ORGANIZER;CN="Carolyn Webb":MAILTO:carolyn@tilinet.org
END:VEVENT
BEGIN:VEVENT
DTSTART;TZID=UTC:20250428T153000
DTEND;TZID=UTC:20250428T170000
DTSTAMP:20260424T104951
CREATED:20250424T060129Z
LAST-MODIFIED:20250424T060129Z
UID:4167-1745854200-1745859600@tilinet.org
SUMMARY:SCDD Invites you to tell your story
DESCRIPTION:Tell Us Your Story\nTalks are happening about cutting Medicaid funding\, which could affect many people and families who depend on these services. In California\, Medicaid helps pay for important programs like regional center services\, Medi-Cal\, In-Home Supportive Services (IHSS)\, and more. Your story can help leaders understand how these services affect real people. \n📢 Share Your Story\nYou know best how Medicaid services help you or your family. By sharing your story\, you can help lawmakers and other leaders see why these services matter. You might talk about: \n✅ How Medicaid services support you or your loved ones.\n✅ What could happen if these services change or go away. \nThe California State Council on Developmental Disabilities is collecting stories to share with decision-makers. Your story can help them understand the real impact of Medicaid-funded services. \nBy providing your information\, story\, and picture below\, you are giving us permission to share it with others. Sharing your story can help them understand the real impact of Medicaid-funded services. \nIf you need help completing this form\, please call SCDD at 916-263-7919.
URL:https://tilinet.org/event/scdd-invites-you-to-tell-your-story/
LOCATION:Online
CATEGORIES:Community Events
END:VEVENT
BEGIN:VEVENT
DTSTART;TZID=UTC:20250418T130000
DTEND;TZID=UTC:20250418T143000
DTSTAMP:20260424T104951
CREATED:20250212T181550Z
LAST-MODIFIED:20250311T204050Z
UID:3951-1744981200-1744986600@tilinet.org
SUMMARY:TCIL’s Emergency Plan Workshop - Humboldt County
DESCRIPTION:We are proud to announce that TRI-COUNTY INDEPENDENT LIVING will be offering an emergency plan workshop for all TCIL clients and interested community members that would like to learn how to create and implement an Emergency Plan for themselves and/or their families. You will also receive an Emergency Go Backpack at the end of the workshop to take home as a starting point for an emergency kit. This workshop will be held on the 3rd Friday of every other month. Light refreshments will be provided.
URL:https://tilinet.org/event/tcils-emergency-plan-workshop-3/
LOCATION:TCIL Eureka\, 139 Fifth St.\, Eureka\, CA\, 95501\, United States
CATEGORIES:TCIL Event's
ORGANIZER;CN="Tara Groswird":MAILTO:tara@tilinet.org
END:VEVENT
BEGIN:VEVENT
DTSTART;TZID=UTC:20250417T120000
DTEND;TZID=UTC:20250417T130000
DTSTAMP:20260424T104951
CREATED:20250228T222343Z
LAST-MODIFIED:20250228T222343Z
UID:4005-1744891200-1744894800@tilinet.org
SUMMARY:TCIL Board of Directors Meeting
DESCRIPTION:
URL:https://tilinet.org/event/tcil-board-of-directors-meeting-3/
LOCATION:TCIL Eureka\, 139 Fifth St.\, Eureka\, CA\, 95501\, United States
CATEGORIES:TCIL Event's
ORGANIZER;CN="Carolyn Webb":MAILTO:carolyn@tilinet.org
END:VEVENT
BEGIN:VEVENT
DTSTART;VALUE=DATE:20250331
DTEND;VALUE=DATE:20250401
DTSTAMP:20260424T104951
CREATED:20250322T081159Z
LAST-MODIFIED:20250322T081159Z
UID:4042-1743379200-1743465599@tilinet.org
SUMMARY:Offices Closed - Cesar Chavez Day
DESCRIPTION:
URL:https://tilinet.org/event/offices-closed-cesar-chavez-day/
CATEGORIES:TCIL Event's
END:VEVENT
BEGIN:VEVENT
DTSTART;TZID=UTC:20250326T110000
DTEND;TZID=UTC:20250326T120000
DTSTAMP:20260424T104951
CREATED:20250308T040320Z
LAST-MODIFIED:20250308T040320Z
UID:4023-1742986800-1742990400@tilinet.org
SUMMARY:North Coast Tsunami Drill
DESCRIPTION:On March 26\, at 11 am\, the Office of Emergency Services in Del Norte\, Humboldt\, and Mendocino counties will issue test alerts encouraging the public to practice their earthquake and tsunami plans. \nNorth Coast Tsunami Drill 2025 Flyer
URL:https://tilinet.org/event/north-coast-tsunami-drill/
CATEGORIES:Community Events,Disability Disaster Access & Resources
ATTACH;FMTTYPE=application/pdf:https://tilinet.org/wp-content/uploads/North-Coast-Tsunami-Drill-2025-Flyer.pdf
ORGANIZER;CN="Tara Groswird":MAILTO:tara@tilinet.org
END:VEVENT
BEGIN:VEVENT
DTSTART;TZID=UTC:20250321T130000
DTEND;TZID=UTC:20250321T143000
DTSTAMP:20260424T104951
CREATED:20250212T180820Z
LAST-MODIFIED:20250311T204013Z
UID:3945-1742562000-1742567400@tilinet.org
SUMMARY:TCIL’s Emergency Plan Workshop - Del Norte
DESCRIPTION:We are proud to announce that TRI-COUNTY INDEPENDENT LIVING will be offering an emergency plan workshop for all TCIL clients and interested community members that would like to learn how to create and implement an Emergency Plan for themselves and/or their families. You will also receive an Emergency Go Backpack at the end of the workshop to take home as a starting point for an emergency kit. This workshop will be held on the 3rd Friday of every other month. Light refreshments will be provided. \n 
URL:https://tilinet.org/event/tcils-emergency-plan-workshop-2/
LOCATION:Rural Human Services\, 286 M St. Suite A\, Crescent City\, 95531\, United States
CATEGORIES:TCIL Event's
ORGANIZER;CN="Tara Groswird":MAILTO:tara@tilinet.org
END:VEVENT
BEGIN:VEVENT
DTSTART;TZID=UTC:20250320T120000
DTEND;TZID=UTC:20250320T130000
DTSTAMP:20260424T104951
CREATED:20250228T222154Z
LAST-MODIFIED:20250228T222154Z
UID:4003-1742472000-1742475600@tilinet.org
SUMMARY:TCIL Board of Directors Meeting
DESCRIPTION:
URL:https://tilinet.org/event/tcil-board-of-directors-meeting-2/
LOCATION:TCIL Eureka\, 139 Fifth St.\, Eureka\, CA\, 95501\, United States
CATEGORIES:TCIL Event's
ORGANIZER;CN="Carolyn Webb":MAILTO:carolyn@tilinet.org
END:VEVENT
BEGIN:VEVENT
DTSTART;TZID=UTC:20250221T130000
DTEND;TZID=UTC:20250221T143000
DTSTAMP:20260424T104951
CREATED:20250212T180343Z
LAST-MODIFIED:20250212T184157Z
UID:3942-1740142800-1740148200@tilinet.org
SUMMARY:TCIL's Emergency Plan Workshop
DESCRIPTION:We are proud to announce that TRI-COUNTY INDEPENDENT LIVING will be offering an emergency plan workshop for all TCIL clients and interested community members that would like to learn how to create and implement an Emergency Plan for themselves and/or their families. You will also receive an Emergency Go Backpack at the end of the workshop to take home as a starting point for an emergency kit. This workshop will be held on the 3rd Friday of every other month. Light refreshments will be provided.
URL:https://tilinet.org/event/tcils-emergency-plan-workshop/
LOCATION:TCIL Eureka\, 139 Fifth St.\, Eureka\, CA\, 95501\, United States
CATEGORIES:TCIL Event's
ORGANIZER;CN="Tara Groswird":MAILTO:tara@tilinet.org
END:VEVENT
BEGIN:VEVENT
DTSTART;VALUE=DATE:20241225
DTEND;VALUE=DATE:20241226
DTSTAMP:20260424T104951
CREATED:20241121T121304Z
LAST-MODIFIED:20241211T214626Z
UID:3906-1735084800-1735171199@tilinet.org
SUMMARY:Office Closed
DESCRIPTION:Our offices will be closed on 25th\, 2024. We will reopen on December 26th at 8am.
URL:https://tilinet.org/event/office-closed-2/
END:VEVENT
BEGIN:VEVENT
DTSTART;VALUE=DATE:20241127
DTEND;VALUE=DATE:20241130
DTSTAMP:20260424T104951
CREATED:20241121T120934Z
LAST-MODIFIED:20241121T173511Z
UID:3904-1732665600-1732924799@tilinet.org
SUMMARY:Office Closed
DESCRIPTION:Our offices will be closed to the public on December 27th but will be available via phone and email. Please note that our offices will be completely closed for the Thanksgiving holiday on December 28th and 29th. We will reopen on Monday\, December 25\, 2024\, at 8 AM.
URL:https://tilinet.org/event/office-closed/
END:VEVENT
BEGIN:VEVENT
DTSTART;TZID=UTC:20241017T080000
DTEND;TZID=UTC:20241017T170000
DTSTAMP:20260424T104951
CREATED:20241016T175005Z
LAST-MODIFIED:20241016T175005Z
UID:3823-1729152000-1729184400@tilinet.org
SUMMARY:TCIL Board of Directors Meeting
DESCRIPTION:
URL:https://tilinet.org/event/tcil-board-of-directors-meeting/
CATEGORIES:TCIL Meetings
ORGANIZER;CN="Carolyn Webb":MAILTO:carolyn@tilinet.org
END:VEVENT
BEGIN:VEVENT
DTSTART;TZID=UTC:20240816T150000
DTEND;TZID=UTC:20240816T160000
DTSTAMP:20260424T104951
CREATED:20240530T102226Z
LAST-MODIFIED:20240530T180818Z
UID:3479-1723820400-1723824000@tilinet.org
SUMMARY:TCIL’s Disability Peer Support Group – August
DESCRIPTION:Are you a person with a disability or do you identify as one? \nWould you like to work with others who have similar experiences in supporting each other? If so\, the TCIL Peer Support Group might be the right group for you. A Disability Peer is an individual with one or more of the following disabilities: Cognitive\, Mental\, Physical\, Hearing\, Vision\, Traumatic Brain Injury/Head Injury\, Learning Disability\, and Developmental Disability. \nPlease contact Anisa for the Zoom link.
URL:https://tilinet.org/event/tcils-disability-peer-support-group-august/
LOCATION:Online
CATEGORIES:TCIL Event's
ORGANIZER;CN="Armando P. Escobedo":MAILTO:a.escobedo@tilinet.org
END:VEVENT
BEGIN:VEVENT
DTSTART;TZID=UTC:20240809T103000
DTEND;TZID=UTC:20240809T143000
DTSTAMP:20260424T104951
CREATED:20240530T093712Z
LAST-MODIFIED:20240530T094406Z
UID:3449-1723199400-1723213800@tilinet.org
SUMMARY:TCIL's 2024 EXPO
DESCRIPTION:Community\, Inclusion\, And Access For All!\nJoin us to discover our community partners and resources for independent living and assistive technology. Admission is free and there will be games and prizes.
URL:https://tilinet.org/event/tcils-2024-expo/
LOCATION:Sequoia Conference Center\, 901 Myrtle Avenue\, Eureka\, 95501\, United States
CATEGORIES:TCIL Event's
ATTACH;FMTTYPE=image/png:https://tilinet.org/wp-content/uploads/TCIL-Expo-Logo-V3.png
ORGANIZER;CN="Armando P. Escobedo":MAILTO:a.escobedo@tilinet.org
END:VEVENT
BEGIN:VEVENT
DTSTART;TZID=UTC:20240720T140000
DTEND;TZID=UTC:20240720T170000
DTSTAMP:20260424T104951
CREATED:20240703T042844Z
LAST-MODIFIED:20240703T042844Z
UID:3729-1721484000-1721494800@tilinet.org
SUMMARY:2024 Disability Pride Fest\, Eureka
DESCRIPTION:Flyer
URL:https://tilinet.org/event/2024-disability-pride-fest-eureka/
LOCATION:Synapsis\, 1675 Union Street\, Eureka\, 95501
CATEGORIES:Community Events
ORGANIZER;CN="Alex":MAILTO:disabilitypridehumboldt@gmail.com
END:VEVENT
BEGIN:VEVENT
DTSTART;TZID=UTC:20240719T150000
DTEND;TZID=UTC:20240719T160000
DTSTAMP:20260424T104951
CREATED:20240530T102021Z
LAST-MODIFIED:20240530T180830Z
UID:3477-1721401200-1721404800@tilinet.org
SUMMARY:TCIL’s Disability Peer Support Group – July
DESCRIPTION:Are you a person with a disability or do you identify as one? \nWould you like to work with others who have similar experiences in supporting each other? If so\, the TCIL Peer Support Group might be the right group for you. A Disability Peer is an individual with one or more of the following disabilities: Cognitive\, Mental\, Physical\, Hearing\, Vision\, Traumatic Brain Injury/Head Injury\, Learning Disability\, and Developmental Disability. \nPlease contact Anisa for the Zoom link.
URL:https://tilinet.org/event/tcils-disability-peer-support-group-july/
LOCATION:Online
CATEGORIES:TCIL Event's
ORGANIZER;CN="Armando P. Escobedo":MAILTO:a.escobedo@tilinet.org
END:VEVENT
BEGIN:VEVENT
DTSTART;TZID=UTC:20240717T110000
DTEND;TZID=UTC:20240717T130000
DTSTAMP:20260424T104951
CREATED:20240530T095927Z
LAST-MODIFIED:20240530T095927Z
UID:3464-1721214000-1721221200@tilinet.org
SUMMARY:TCIL's 2024 Del Norte Pride
DESCRIPTION:We are proud to invite you to this year’s Disability Pride Del Norte event on July 17th at Tri-County Independent Living (TCIL) located at 286 M Street\, Suite C\, Crescent City\, CA 95531. We will be hosting an open-house style event featuring our new Sensory Room from 11 am to 1 pm\, with light refreshments provided. \nThere will also be a raffle for a Solar Power Backup Battery for Cell Phones\, Earbuds\, and Tablets. The battery includes a charging cord\, carabiner\, emergency whistle\, and compass. Perfect for everyday use or to keep charged in case of emergency. \nIf you would like to register for this event\, please do not hesitate to contact me with your name\, email address\, and the number of guests.
URL:https://tilinet.org/event/tcils-2024-del-norte-pride/
LOCATION:TCIL Del Norte\, 286 M Street\, Suite C\, Crescent City\, CA\, 95531\, United States
CATEGORIES:TCIL Event's
ORGANIZER;CN="Catherine Peacock":MAILTO:catherine@tilinet.org
END:VEVENT
BEGIN:VEVENT
DTSTART;TZID=UTC:20240621T150000
DTEND;TZID=UTC:20240621T160000
DTSTAMP:20260424T104951
CREATED:20240530T101554Z
LAST-MODIFIED:20240530T180846Z
UID:3473-1718982000-1718985600@tilinet.org
SUMMARY:TCIL's Disability Peer Support Group - June
DESCRIPTION:Are you a person with a disability or do you identify as one? \nWould you like to work with others who have similar experiences in supporting each other? If so\, the TCIL Peer Support Group might be the right group for you. A Disability Peer is an individual with one or more of the following disabilities: Cognitive\, Mental\, Physical\, Hearing\, Vision\, Traumatic Brain Injury/Head Injury\, Learning Disability\, and Developmental Disability. \nPlease contact Anisa for the Zoom link.
URL:https://tilinet.org/event/disability-peer-support-group/
LOCATION:Online
CATEGORIES:TCIL Event's
ORGANIZER;CN="Armando P. Escobedo":MAILTO:a.escobedo@tilinet.org
END:VEVENT
BEGIN:VEVENT
DTSTART;TZID=UTC:20240615T150000
DTEND;TZID=UTC:20240615T190000
DTSTAMP:20260424T104951
CREATED:20240530T100335Z
LAST-MODIFIED:20240530T100335Z
UID:3468-1718463600-1718478000@tilinet.org
SUMMARY:Del Norte LGBT+ Pride
DESCRIPTION:
URL:https://tilinet.org/event/del-norte-lgbt-pride/
CATEGORIES:Community Events
ORGANIZER;CN="Catherine Peacock":MAILTO:catherine@tilinet.org
END:VEVENT
BEGIN:VEVENT
DTSTART;TZID=UTC:20240530T120000
DTEND;TZID=UTC:20240530T220000
DTSTAMP:20260424T104951
CREATED:20240530T100659Z
LAST-MODIFIED:20240530T100659Z
UID:3471-1717070400-1717106400@tilinet.org
SUMMARY:Ferndale Pride Weekend
DESCRIPTION:
URL:https://tilinet.org/event/ferndale-pride-weekend/
CATEGORIES:Community Events
ORGANIZER;CN="Armando P. Escobedo":MAILTO:a.escobedo@tilinet.org
END:VEVENT
END:VCALENDAR