BEGIN:VCALENDAR
VERSION:2.0
PRODID:-//Tri-County Independent Living (TCIL) - ECPv6.15.20//NONSGML v1.0//EN
CALSCALE:GREGORIAN
METHOD:PUBLISH
X-WR-CALNAME:Tri-County Independent Living (TCIL)
X-ORIGINAL-URL:https://tilinet.org
X-WR-CALDESC:Events for Tri-County Independent Living (TCIL)
REFRESH-INTERVAL;VALUE=DURATION:PT1H
X-Robots-Tag:noindex
X-PUBLISHED-TTL:PT1H
BEGIN:VTIMEZONE
TZID:UTC
BEGIN:STANDARD
TZOFFSETFROM:+0000
TZOFFSETTO:+0000
TZNAME:UTC
DTSTART:20240101T000000
END:STANDARD
END:VTIMEZONE
BEGIN:VEVENT
DTSTART;VALUE=DATE:20251111
DTEND;VALUE=DATE:20251112
DTSTAMP:20260423T235641
CREATED:20250322T081825Z
LAST-MODIFIED:20250322T081825Z
UID:4050-1762819200-1762905599@tilinet.org
SUMMARY:Offices Closed - Veterans’ Day
DESCRIPTION:
URL:https://tilinet.org/event/offices-closed-veterans-day/
CATEGORIES:TCIL Event's
END:VEVENT
BEGIN:VEVENT
DTSTART;TZID=UTC:20251121T130000
DTEND;TZID=UTC:20251121T143000
DTSTAMP:20260423T235641
CREATED:20250311T204907Z
LAST-MODIFIED:20250311T204907Z
UID:4039-1763730000-1763735400@tilinet.org
SUMMARY:TCIL’s Emergency Plan Workshop – Del Norte County
DESCRIPTION:We are proud to announce that TRI-COUNTY INDEPENDENT LIVING will be offering an emergency plan workshop for all TCIL clients and interested community members that would like to learn how to create and implement an Emergency Plan for themselves and/or their families. You will also receive an Emergency Go Backpack at the end of the workshop to take home as a starting point for an emergency kit. This workshop will be held on the 3rd Friday of every other month. Light refreshments will be provided.
URL:https://tilinet.org/event/tcils-emergency-plan-workshop-del-norte-county/
LOCATION:Rural Human Services\, 286 M St. Suite A\, Crescent City\, 95531\, United States
CATEGORIES:Community Events,Disability Disaster Access & Resources
ORGANIZER;CN="Tara Groswird":MAILTO:tara@tilinet.org
END:VEVENT
BEGIN:VEVENT
DTSTART;VALUE=DATE:20251127
DTEND;VALUE=DATE:20251129
DTSTAMP:20260423T235641
CREATED:20250322T082022Z
LAST-MODIFIED:20250322T082038Z
UID:4052-1764201600-1764374399@tilinet.org
SUMMARY:Offices Closed - Thanksgiving & Day After
DESCRIPTION:
URL:https://tilinet.org/event/office-closed-thanksgiving-day-after/
CATEGORIES:TCIL Event's
END:VEVENT
BEGIN:VEVENT
DTSTART;TZID=UTC:20251210T110000
DTEND;TZID=UTC:20251210T220000
DTSTAMP:20260423T235641
CREATED:20251205T051241Z
LAST-MODIFIED:20251205T051448Z
UID:4773-1765364400-1765404000@tilinet.org
SUMMARY:North Coast ADRC Pints for Nonprofits
DESCRIPTION:
URL:https://tilinet.org/event/north-coast-adrc-pints-for-nonprofits/
LOCATION:Redwood Curtain Brewing Company\, 1595 Myrtle Avenue\, Suite B\, Eureka\, CA\, 95501\, United States
CATEGORIES:Community Events,TCIL Event's
ATTACH;FMTTYPE=image/png:https://tilinet.org/wp-content/uploads/Join-us-for-Pints-for-Non-Profits-2.png
ORGANIZER;CN="Lisa Leon":MAILTO:lisa@tilinet.org
END:VEVENT
BEGIN:VEVENT
DTSTART;TZID=UTC:20251210T163000
DTEND;TZID=UTC:20251210T173000
DTSTAMP:20260423T235641
CREATED:20251124T180756Z
LAST-MODIFIED:20251205T060530Z
UID:4711-1765384200-1765387800@tilinet.org
SUMMARY:TCIL's Monthly Peer Support Group
DESCRIPTION:Peer Support Group Details \nTopic: Peer Support Group-Monthly \nPlease download and import the following iCalendar (.ics) files to your calendar system.\nMonthly: https://us06web.zoom.us/meeting/tZYsc–opjIiHNypVK_dx9ILt5B7jaSJqwKp/ics?icsToken=DMqVIcdIwtBlpbOIjgAALAAAAJi3LQxa7HlqfSly0joj7Ku7ZOVSO7XBOcXi0rliz6W9WtKh3TrJyBaQqyS64LCUgRq5JpoI55Zq161IgTAwMDAwMQ&meetingMasterEventId=_h3oEevyQ3mTeCnRiTkj5Q\nJoin Zoom Meeting\nhttps://us06web.zoom.us/j/82146089868?pwd=EXnDYLeNaLrVG10v97NQ2IW1kLQ0ZS.1 \nMeeting ID: 821 4608 9868\nPasscode: 967599 \n— \nOne tap mobile\n+16694449171\,\,82146089868#\,\,\,\,*967599# US\n+13462487799\,\,82146089868#\,\,\,\,*967599# US (Houston) \nJoin instructions\nhttps://us06web.zoom.us/meetings/82146089868/invitations?signature=a20fPDWgjXds8ZpHl6JBZq8VErifDEJK7Jbobu6OCyg
URL:https://tilinet.org/event/tcils-monthly-peer-support-group/
LOCATION:Online
CATEGORIES:Peer Support Group,TCIL Event's
ATTACH;FMTTYPE=image/png:https://tilinet.org/wp-content/uploads/peer-support-group-1.png
ORGANIZER;CN="Jessica Warrick":MAILTO:jessica@tilinet.org
END:VEVENT
BEGIN:VEVENT
DTSTART;VALUE=DATE:20251225
DTEND;VALUE=DATE:20251226
DTSTAMP:20260423T235641
CREATED:20250322T082144Z
LAST-MODIFIED:20250322T082144Z
UID:4055-1766620800-1766707199@tilinet.org
SUMMARY:Offices Closed - Christmas Day
DESCRIPTION:
URL:https://tilinet.org/event/offices-closed-christmas-day/
CATEGORIES:TCIL Event's
END:VEVENT
BEGIN:VEVENT
DTSTART;VALUE=DATE:20260101
DTEND;VALUE=DATE:20260102
DTSTAMP:20260423T235641
CREATED:20251203T213154Z
LAST-MODIFIED:20251203T213154Z
UID:4738-1767225600-1767311999@tilinet.org
SUMMARY:Offices Closed – New Year's Day
DESCRIPTION:All offices are closed
URL:https://tilinet.org/event/offices-closed-new-years-day/
CATEGORIES:TCIL Event's
END:VEVENT
BEGIN:VEVENT
DTSTART;TZID=UTC:20260114T163000
DTEND;TZID=UTC:20260114T173000
DTSTAMP:20260423T235641
CREATED:20251205T051727Z
LAST-MODIFIED:20251205T054151Z
UID:4778-1768408200-1768411800@tilinet.org
SUMMARY:TCIL’s Monthly Peer Support Group
DESCRIPTION:Peer Support Group Details \nTopic: Peer Support Group-Monthly \nPlease download and import the following iCalendar (.ics) files to your calendar system.\nMonthly: https://us06web.zoom.us/meeting/tZYsc–opjIiHNypVK_dx9ILt5B7jaSJqwKp/ics?icsToken=DMqVIcdIwtBlpbOIjgAALAAAAJi3LQxa7HlqfSly0joj7Ku7ZOVSO7XBOcXi0rliz6W9WtKh3TrJyBaQqyS64LCUgRq5JpoI55Zq161IgTAwMDAwMQ&meetingMasterEventId=_h3oEevyQ3mTeCnRiTkj5Q \nJoin Zoom Meeting\nhttps://us06web.zoom.us/j/82146089868?pwd=EXnDYLeNaLrVG10v97NQ2IW1kLQ0ZS.1 \nMeeting ID: 821 4608 9868\nPasscode: 967599 \n— \nOne tap mobile\n+16694449171\,\,82146089868#\,\,\,\,*967599# US\n+13462487799\,\,82146089868#\,\,\,\,*967599# US (Houston) \nJoin instructions\nhttps://us06web.zoom.us/meetings/82146089868/invitations?signature=a20fPDWgjXds8ZpHl6JBZq8VErifDEJK7Jbobu6OCyg
URL:https://tilinet.org/event/tcils-monthly-peer-support-group-2/
LOCATION:Online
CATEGORIES:Peer Support Group
ATTACH;FMTTYPE=image/png:https://tilinet.org/wp-content/uploads/peer-support-group-1.png
ORGANIZER;CN="Jessica Warrick":MAILTO:jessica@tilinet.org
END:VEVENT
BEGIN:VEVENT
DTSTART;VALUE=DATE:20260119
DTEND;VALUE=DATE:20260120
DTSTAMP:20260423T235641
CREATED:20251203T213626Z
LAST-MODIFIED:20251203T213722Z
UID:4743-1768780800-1768867199@tilinet.org
SUMMARY:Offices Closed - Martin Luther King Day
DESCRIPTION:All offices are closed
URL:https://tilinet.org/event/offices-closed-martin-luther-king-day-2/
CATEGORIES:TCIL Event's
END:VEVENT
BEGIN:VEVENT
DTSTART;TZID=UTC:20260211T163000
DTEND;TZID=UTC:20260211T173000
DTSTAMP:20260423T235641
CREATED:20251205T052026Z
LAST-MODIFIED:20260228T085321Z
UID:4780-1770827400-1770831000@tilinet.org
SUMMARY:TCIL’s Monthly Peer Support Group
DESCRIPTION:Peer Support Group Details \nTopic: Peer Support Group-Monthly \nPlease download and import the following iCalendar (.ics) files to your calendar system.\nMonthly: https://us06web.zoom.us/meeting/tZYsc–opjIiHNypVK_dx9ILt5B7jaSJqwKp/ics?icsToken=DMqVIcdIwtBlpbOIjgAALAAAAJi3LQxa7HlqfSly0joj7Ku7ZOVSO7XBOcXi0rliz6W9WtKh3TrJyBaQqyS64LCUgRq5JpoI55Zq161IgTAwMDAwMQ&meetingMasterEventId=_h3oEevyQ3mTeCnRiTkj5Q \nJoin Zoom Meeting\nhttps://us06web.zoom.us/j/82146089868?pwd=EXnDYLeNaLrVG10v97NQ2IW1kLQ0ZS.1 \nMeeting ID: 821 4608 9868\nPasscode: 967599 \n— \nOne tap mobile\n+16694449171\,\,82146089868#\,\,\,\,*967599# US\n+13462487799\,\,82146089868#\,\,\,\,*967599# US (Houston) \nJoin instructions\nhttps://us06web.zoom.us/meetings/82146089868/invitations?signature=a20fPDWgjXds8ZpHl6JBZq8VErifDEJK7Jbobu6OCyg
URL:https://tilinet.org/event/tcils-monthly-peer-support-group-3/
LOCATION:Online
CATEGORIES:Peer Support Group
ATTACH;FMTTYPE=image/png:https://tilinet.org/wp-content/uploads/peer-support-group-1.png
ORGANIZER;CN="Jessica Warrick":MAILTO:jessica@tilinet.org
END:VEVENT
BEGIN:VEVENT
DTSTART;VALUE=DATE:20260216
DTEND;VALUE=DATE:20260217
DTSTAMP:20260423T235641
CREATED:20251203T213924Z
LAST-MODIFIED:20251203T213924Z
UID:4745-1771200000-1771286399@tilinet.org
SUMMARY:Offices Closed - President's Day
DESCRIPTION:All offices are closed
URL:https://tilinet.org/event/offices-closed-presidents-day/
END:VEVENT
BEGIN:VEVENT
DTSTART;TZID=UTC:20260311T163000
DTEND;TZID=UTC:20260311T173000
DTSTAMP:20260423T235641
CREATED:20251205T052232Z
LAST-MODIFIED:20260228T085313Z
UID:4782-1773246600-1773250200@tilinet.org
SUMMARY:TCIL’s Monthly Peer Support Group
DESCRIPTION:Peer Support Group Details \nTopic: Peer Support Group-Monthly \nPlease download and import the following iCalendar (.ics) files to your calendar system.\nMonthly: https://us06web.zoom.us/meeting/tZYsc–opjIiHNypVK_dx9ILt5B7jaSJqwKp/ics?icsToken=DMqVIcdIwtBlpbOIjgAALAAAAJi3LQxa7HlqfSly0joj7Ku7ZOVSO7XBOcXi0rliz6W9WtKh3TrJyBaQqyS64LCUgRq5JpoI55Zq161IgTAwMDAwMQ&meetingMasterEventId=_h3oEevyQ3mTeCnRiTkj5Q \nJoin Zoom Meeting\nhttps://us06web.zoom.us/j/82146089868?pwd=EXnDYLeNaLrVG10v97NQ2IW1kLQ0ZS.1 \nMeeting ID: 821 4608 9868\nPasscode: 967599 \n— \nOne tap mobile\n+16694449171\,\,82146089868#\,\,\,\,*967599# US\n+13462487799\,\,82146089868#\,\,\,\,*967599# US (Houston) \nJoin instructions\nhttps://us06web.zoom.us/meetings/82146089868/invitations?signature=a20fPDWgjXds8ZpHl6JBZq8VErifDEJK7Jbobu6OCyg
URL:https://tilinet.org/event/tcils-monthly-peer-support-group-4/
LOCATION:Online
CATEGORIES:Peer Support Group
ATTACH;FMTTYPE=image/png:https://tilinet.org/wp-content/uploads/peer-support-group-1.png
ORGANIZER;CN="Jessica Warrick":MAILTO:jessica@tilinet.org
END:VEVENT
BEGIN:VEVENT
DTSTART;VALUE=DATE:20260331
DTEND;VALUE=DATE:20260401
DTSTAMP:20260423T235641
CREATED:20251205T045425Z
LAST-MODIFIED:20251205T045655Z
UID:4750-1774915200-1775001599@tilinet.org
SUMMARY:Offices Closed - Cesar Chavez Day
DESCRIPTION:
URL:https://tilinet.org/event/offices-closed-cesar-chavez-day-2/
CATEGORIES:TCIL Event's
END:VEVENT
BEGIN:VEVENT
DTSTART;TZID=UTC:20260408T163000
DTEND;TZID=UTC:20260408T173000
DTSTAMP:20260423T235641
CREATED:20251205T052904Z
LAST-MODIFIED:20260228T085254Z
UID:4785-1775665800-1775669400@tilinet.org
SUMMARY:TCIL’s Monthly Peer Support Group
DESCRIPTION:Peer Support Group Details \nTopic: Peer Support Group-Monthly \nEvery month on the Second Wed\, 35 occurrence(s) \nPlease download and import the following iCalendar (.ics) files to your calendar system.\nMonthly: https://us06web.zoom.us/meeting/tZYsc–opjIiHNypVK_dx9ILt5B7jaSJqwKp/ics?icsToken=DMqVIcdIwtBlpbOIjgAALAAAAJi3LQxa7HlqfSly0joj7Ku7ZOVSO7XBOcXi0rliz6W9WtKh3TrJyBaQqyS64LCUgRq5JpoI55Zq161IgTAwMDAwMQ&meetingMasterEventId=_h3oEevyQ3mTeCnRiTkj5Q \nJoin Zoom Meeting\nhttps://us06web.zoom.us/j/82146089868?pwd=EXnDYLeNaLrVG10v97NQ2IW1kLQ0ZS.1 \nMeeting ID: 821 4608 9868\nPasscode: 967599 \n— \nOne tap mobile\n+16694449171\,\,82146089868#\,\,\,\,*967599# US\n+13462487799\,\,82146089868#\,\,\,\,*967599# US (Houston) \nJoin instructions\nhttps://us06web.zoom.us/meetings/82146089868/invitations?signature=a20fPDWgjXds8ZpHl6JBZq8VErifDEJK7Jbobu6OCyg
URL:https://tilinet.org/event/tcils-monthly-peer-support-group-5/
LOCATION:Online
CATEGORIES:Peer Support Group
ATTACH;FMTTYPE=image/png:https://tilinet.org/wp-content/uploads/peer-support-group-1.png
ORGANIZER;CN="Jessica Warrick":MAILTO:jessica@tilinet.org
END:VEVENT
BEGIN:VEVENT
DTSTART;TZID=UTC:20260429T130000
DTEND;TZID=UTC:20260429T150000
DTSTAMP:20260423T235641
CREATED:20260228T064345Z
LAST-MODIFIED:20260228T085825Z
UID:5040-1777467600-1777474800@tilinet.org
SUMMARY:TCIL's Emergency Plan Workshop
DESCRIPTION:We are proud to announce that Tri-County Independent Living will continue to host the by-monthly Emergency Plan Workshops in Humboldt and Del Norte County. \nWhat to expect: Each workshop will feature methods on creating and implementing an Emergency Plan in times of inclement weather and earthquakes. \nWhen can you participate: Join us the last Wednesday of every other month in either Humboldt or Del Norte county. The works shops will be held from 1-3 pm. and they will feature useful information as well as light refreshments. \nEveryone will be entered for a chance to win an emergency go bag or 1 of 6 gift cards for food/gas
URL:https://tilinet.org/event/tcils-emergancy-plan-workshop/
LOCATION:Rural Human Services\, 286 M St. Suite A\, Crescent City\, 95531\, United States
CATEGORIES:Disability Disaster Access & Resources
ORGANIZER;CN="Tara Groswird":MAILTO:tara@tilinet.org
END:VEVENT
BEGIN:VEVENT
DTSTART;TZID=UTC:20260513T163000
DTEND;TZID=UTC:20260513T173000
DTSTAMP:20260423T235641
CREATED:20251205T053429Z
LAST-MODIFIED:20260228T085242Z
UID:4787-1778689800-1778693400@tilinet.org
SUMMARY:TCIL’s Monthly Peer Support Group
DESCRIPTION:Peer Support Group Details \nTopic: Peer Support Group-Monthly \nPlease download and import the following iCalendar (.ics) files to your calendar system.\nMonthly: https://us06web.zoom.us/meeting/tZYsc–opjIiHNypVK_dx9ILt5B7jaSJqwKp/ics?icsToken=DMqVIcdIwtBlpbOIjgAALAAAAJi3LQxa7HlqfSly0joj7Ku7ZOVSO7XBOcXi0rliz6W9WtKh3TrJyBaQqyS64LCUgRq5JpoI55Zq161IgTAwMDAwMQ&meetingMasterEventId=_h3oEevyQ3mTeCnRiTkj5Q \nJoin Zoom Meeting\nhttps://us06web.zoom.us/j/82146089868?pwd=EXnDYLeNaLrVG10v97NQ2IW1kLQ0ZS.1 \nMeeting ID: 821 4608 9868\nPasscode: 967599 \n— \nOne tap mobile\n+16694449171\,\,82146089868#\,\,\,\,*967599# US\n+13462487799\,\,82146089868#\,\,\,\,*967599# US (Houston) \nJoin instructions\nhttps://us06web.zoom.us/meetings/82146089868/invitations?signature=a20fPDWgjXds8ZpHl6JBZq8VErifDEJK7Jbobu6OCyg
URL:https://tilinet.org/event/tcils-monthly-peer-support-group-6/
LOCATION:Online
CATEGORIES:Peer Support Group
ATTACH;FMTTYPE=image/png:https://tilinet.org/wp-content/uploads/peer-support-group-1.png
ORGANIZER;CN="Jessica Warrick":MAILTO:jessica@tilinet.org
END:VEVENT
BEGIN:VEVENT
DTSTART;VALUE=DATE:20260525
DTEND;VALUE=DATE:20260526
DTSTAMP:20260423T235641
CREATED:20251205T045531Z
LAST-MODIFIED:20251205T045706Z
UID:4752-1779667200-1779753599@tilinet.org
SUMMARY:Offices Closed - Memorial Day
DESCRIPTION:
URL:https://tilinet.org/event/offices-closed-memorial-day-2/
END:VEVENT
BEGIN:VEVENT
DTSTART;TZID=UTC:20260610T163000
DTEND;TZID=UTC:20260610T173000
DTSTAMP:20260423T235641
CREATED:20251205T053630Z
LAST-MODIFIED:20260228T085232Z
UID:4790-1781109000-1781112600@tilinet.org
SUMMARY:TCIL’s Monthly Peer Support Group
DESCRIPTION:Peer Support Group Details \nTopic: Peer Support Group-Monthly \nPlease download and import the following iCalendar (.ics) files to your calendar system.\nMonthly: https://us06web.zoom.us/meeting/tZYsc–opjIiHNypVK_dx9ILt5B7jaSJqwKp/ics?icsToken=DMqVIcdIwtBlpbOIjgAALAAAAJi3LQxa7HlqfSly0joj7Ku7ZOVSO7XBOcXi0rliz6W9WtKh3TrJyBaQqyS64LCUgRq5JpoI55Zq161IgTAwMDAwMQ&meetingMasterEventId=_h3oEevyQ3mTeCnRiTkj5Q \nJoin Zoom Meeting\nhttps://us06web.zoom.us/j/82146089868?pwd=EXnDYLeNaLrVG10v97NQ2IW1kLQ0ZS.1 \nMeeting ID: 821 4608 9868\nPasscode: 967599 \n— \nOne tap mobile\n+16694449171\,\,82146089868#\,\,\,\,*967599# US\n+13462487799\,\,82146089868#\,\,\,\,*967599# US (Houston) \nJoin instructions\nhttps://us06web.zoom.us/meetings/82146089868/invitations?signature=a20fPDWgjXds8ZpHl6JBZq8VErifDEJK7Jbobu6OCyg
URL:https://tilinet.org/event/tcils-monthly-peer-support-group-7/
LOCATION:Online
CATEGORIES:Peer Support Group
ATTACH;FMTTYPE=image/png:https://tilinet.org/wp-content/uploads/peer-support-group-1.png
ORGANIZER;CN="Jessica Warrick":MAILTO:jessica@tilinet.org
END:VEVENT
BEGIN:VEVENT
DTSTART;TZID=UTC:20260624T130000
DTEND;TZID=UTC:20260624T150000
DTSTAMP:20260423T235641
CREATED:20260228T070007Z
LAST-MODIFIED:20260228T085356Z
UID:5044-1782306000-1782313200@tilinet.org
SUMMARY:TCIL’s Emergency Plan Workshop
DESCRIPTION:We are proud to announce that Tri-County Independent Living will continue to host the by-monthly Emergency Plan Workshops in Humboldt and Del Norte County. \nWhat to expect: Each workshop will feature methods on creating and implementing an Emergency Plan in times of inclement weather and earthquakes. \nWhen can you participate: Join us the last Wednesday of every other month in either Humboldt or Del Norte county. The works shops will be held from 1-3 pm. and they will feature useful information as well as light refreshments. \nEveryone will be entered for a chance to win an emergency go bag or 1 of 6 gift cards for food/gas
URL:https://tilinet.org/event/tcils-emergancy-plan-workshop-2/
LOCATION:Eureka Veterans Memorial Hall\, 1018 H Street\, Eureka\, CA\, 95501\, United States
CATEGORIES:Disability Disaster Access & Resources
ORGANIZER;CN="Tara Groswird":MAILTO:tara@tilinet.org
END:VEVENT
BEGIN:VEVENT
DTSTART;VALUE=DATE:20260703
DTEND;VALUE=DATE:20260704
DTSTAMP:20260423T235641
CREATED:20251205T045639Z
LAST-MODIFIED:20251205T045712Z
UID:4754-1783036800-1783123199@tilinet.org
SUMMARY:Offices Closed - Independence Day (Observed)
DESCRIPTION:
URL:https://tilinet.org/event/offices-closed-independence-day-observed/
END:VEVENT
BEGIN:VEVENT
DTSTART;TZID=UTC:20260826T130000
DTEND;TZID=UTC:20260826T150000
DTSTAMP:20260423T235641
CREATED:20260228T070315Z
LAST-MODIFIED:20260228T085409Z
UID:5048-1787749200-1787756400@tilinet.org
SUMMARY:TCIL’s Emergency Plan Workshop
DESCRIPTION:We are proud to announce that Tri-County Independent Living will continue to host the by-monthly Emergency Plan Workshops in Humboldt and Del Norte County. \nWhat to expect: Each workshop will feature methods on creating and implementing an Emergency Plan in times of inclement weather and earthquakes. \nWhen can you participate: Join us the last Wednesday of every other month in either Humboldt or Del Norte county. The works shops will be held from 1-3 pm. and they will feature useful information as well as light refreshments. \nEveryone will be entered for a chance to win an emergency go bag or 1 of 6 gift cards for food/gas
URL:https://tilinet.org/event/tcils-emergency-plan-workshop-10/
LOCATION:Rural Human Services\, 286 M St. Suite A\, Crescent City\, 95531\, United States
CATEGORIES:Disability Disaster Access & Resources
ORGANIZER;CN="Tara Groswird":MAILTO:tara@tilinet.org
END:VEVENT
BEGIN:VEVENT
DTSTART;VALUE=DATE:20260907
DTEND;VALUE=DATE:20260908
DTSTAMP:20260423T235641
CREATED:20251205T045754Z
LAST-MODIFIED:20251205T045754Z
UID:4759-1788739200-1788825599@tilinet.org
SUMMARY:Offices Closed - Labor Day
DESCRIPTION:
URL:https://tilinet.org/event/offices-closed-labor-day-2/
CATEGORIES:TCIL Event's
END:VEVENT
BEGIN:VEVENT
DTSTART;TZID=UTC:20261002T110000
DTEND;TZID=UTC:20261002T140000
DTSTAMP:20260423T235641
CREATED:20251205T050558Z
LAST-MODIFIED:20260128T230745Z
UID:4769-1790938800-1790949600@tilinet.org
SUMMARY:2026 TCIL Disability & Senior EXPO
DESCRIPTION:The EXPO will focus on supporting the Independent Living of people with disabilities\, and those who are aging! \nThis is a great chance to connect with community partners and learn about available resources right here in our community. \nAll ages are welcome\nAdmission is free
URL:https://tilinet.org/event/2026-tcil-disability-senior-expo/
LOCATION:Sequoia Conference Center\, 901 Myrtle Avenue\, Eureka\, 95501\, United States
CATEGORIES:TCIL Event's
ATTACH;FMTTYPE=image/png:https://tilinet.org/wp-content/uploads/Colored-1-scaled.png
ORGANIZER;CN="Jessica Warrick":MAILTO:jessica@tilinet.org
END:VEVENT
BEGIN:VEVENT
DTSTART;TZID=UTC:20261028T130000
DTEND;TZID=UTC:20261028T150000
DTSTAMP:20260423T235641
CREATED:20260228T072904Z
LAST-MODIFIED:20260228T085533Z
UID:5066-1793192400-1793199600@tilinet.org
SUMMARY:TCIL’s Emergency Plan Workshop
DESCRIPTION:We are proud to announce that Tri-County Independent Living will continue to host the by-monthly Emergency Plan Workshops in Humboldt and Del Norte County. \nWhat to expect: Each workshop will feature methods on creating and implementing an Emergency Plan in times of inclement weather and earthquakes. \nWhen can you participate: Join us the last Wednesday of every other month in either Humboldt or Del Norte county. The works shops will be held from 1-3 pm. and they will feature useful information as well as light refreshments. \nEveryone will be entered for a chance to win an emergency go bag or 1 of 6 gift cards for food/gas
URL:https://tilinet.org/event/tcils-emergency-plan-workshop-11/
LOCATION:Greater Eureka Chamber of Commerce\, 612 G St Ste. 101\, Eureka\, CA\, 95501\, United States
CATEGORIES:Disability Disaster Access & Resources
ORGANIZER;CN="Tara Groswird":MAILTO:tara@tilinet.org
END:VEVENT
BEGIN:VEVENT
DTSTART;VALUE=DATE:20261111
DTEND;VALUE=DATE:20261112
DTSTAMP:20260423T235641
CREATED:20251205T045844Z
LAST-MODIFIED:20251205T045844Z
UID:4761-1794355200-1794441599@tilinet.org
SUMMARY:Offices Closed - Veterans’ Day
DESCRIPTION:
URL:https://tilinet.org/event/offices-closed-veterans-day-2/
CATEGORIES:TCIL Event's
END:VEVENT
BEGIN:VEVENT
DTSTART;VALUE=DATE:20261126
DTEND;VALUE=DATE:20261127
DTSTAMP:20260423T235641
CREATED:20251205T045937Z
LAST-MODIFIED:20251205T045937Z
UID:4763-1795651200-1795737599@tilinet.org
SUMMARY:Offices Closed - Thanksgiving
DESCRIPTION:
URL:https://tilinet.org/event/offices-closed-thanksgiving/
CATEGORIES:TCIL Event's
END:VEVENT
BEGIN:VEVENT
DTSTART;VALUE=DATE:20261127
DTEND;VALUE=DATE:20261128
DTSTAMP:20260423T235641
CREATED:20251205T050025Z
LAST-MODIFIED:20251205T050025Z
UID:4765-1795737600-1795823999@tilinet.org
SUMMARY:Offices Closed - Day after Thanksgiving
DESCRIPTION:
URL:https://tilinet.org/event/offices-closed-day-after-thanksgiving/
CATEGORIES:TCIL Event's
END:VEVENT
BEGIN:VEVENT
DTSTART;VALUE=DATE:20261225
DTEND;VALUE=DATE:20261226
DTSTAMP:20260423T235641
CREATED:20251205T050118Z
LAST-MODIFIED:20251205T050118Z
UID:4767-1798156800-1798243199@tilinet.org
SUMMARY:Offices Closed - Christmas
DESCRIPTION:
URL:https://tilinet.org/event/offices-closed-christmas/
CATEGORIES:TCIL Event's
END:VEVENT
BEGIN:VEVENT
DTSTART;TZID=UTC:20261230T130000
DTEND;TZID=UTC:20261230T150000
DTSTAMP:20260423T235641
CREATED:20260228T073117Z
LAST-MODIFIED:20260228T085554Z
UID:5069-1798635600-1798642800@tilinet.org
SUMMARY:TCIL’s Emergency Plan Workshop
DESCRIPTION:We are proud to announce that Tri-County Independent Living will continue to host the by-monthly Emergency Plan Workshops in Humboldt and Del Norte County. \nWhat to expect: Each workshop will feature methods on creating and implementing an Emergency Plan in times of inclement weather and earthquakes. \nWhen can you participate: Join us the last Wednesday of every other month in either Humboldt or Del Norte county. The works shops will be held from 1-3 pm. and they will feature useful information as well as light refreshments. \nEveryone will be entered for a chance to win an emergency go bag or 1 of 6 gift cards for food/gas
URL:https://tilinet.org/event/tcils-emergency-plan-workshop-12/
LOCATION:Rural Human Services\, 286 M St. Suite A\, Crescent City\, 95531\, United States
CATEGORIES:Disability Disaster Access & Resources
ORGANIZER;CN="Tara Groswird":MAILTO:tara@tilinet.org
END:VEVENT
END:VCALENDAR