BEGIN:VCALENDAR
VERSION:2.0
PRODID:-//Tri-County Independent Living (TCIL) - ECPv6.15.20//NONSGML v1.0//EN
CALSCALE:GREGORIAN
METHOD:PUBLISH
X-ORIGINAL-URL:https://tilinet.org
X-WR-CALDESC:Events for Tri-County Independent Living (TCIL)
REFRESH-INTERVAL;VALUE=DURATION:PT1H
X-Robots-Tag:noindex
X-PUBLISHED-TTL:PT1H
BEGIN:VTIMEZONE
TZID:UTC
BEGIN:STANDARD
TZOFFSETFROM:+0000
TZOFFSETTO:+0000
TZNAME:UTC
DTSTART:20240101T000000
END:STANDARD
END:VTIMEZONE
BEGIN:VEVENT
DTSTART;VALUE=DATE:20250901
DTEND;VALUE=DATE:20250902
DTSTAMP:20260424T013318
CREATED:20250322T081640Z
LAST-MODIFIED:20250322T081640Z
UID:4048-1756684800-1756771199@tilinet.org
SUMMARY:Offices Closed - Labor Day
DESCRIPTION:
URL:https://tilinet.org/event/offices-closed-labor-day/
CATEGORIES:TCIL Event's
END:VEVENT
BEGIN:VEVENT
DTSTART;TZID=UTC:20250919T130000
DTEND;TZID=UTC:20250919T143000
DTSTAMP:20260424T013318
CREATED:20250212T183933Z
LAST-MODIFIED:20250311T204559Z
UID:3961-1758286800-1758292200@tilinet.org
SUMMARY:TCIL’s Emergency Plan Workshop - Del Norte County
DESCRIPTION:We are proud to announce that TRI-COUNTY INDEPENDENT LIVING will be offering an emergency plan workshop for all TCIL clients and interested community members that would like to learn how to create and implement an Emergency Plan for themselves and/or their families. You will also receive an Emergency Go Backpack at the end of the workshop to take home as a starting point for an emergency kit. This workshop will be held on the 3rd Friday of every other month. Light refreshments will be provided.
URL:https://tilinet.org/event/tcils-emergency-plan-workshop-8/
LOCATION:Rural Human Services\, 286 M St. Suite A\, Crescent City\, 95531\, United States
CATEGORIES:Disability Disaster Access & Resources,TCIL Event's
ORGANIZER;CN="Tara Groswird":MAILTO:tara@tilinet.org
END:VEVENT
BEGIN:VEVENT
DTSTART;TZID=UTC:20250926T103000
DTEND;TZID=UTC:20250926T140000
DTSTAMP:20260424T013318
CREATED:20241121T193156Z
LAST-MODIFIED:20250729T221524Z
UID:3911-1758882600-1758895200@tilinet.org
SUMMARY:TCIL Expo 2025
DESCRIPTION:The EXPO will focus on supporting the Independent Living of people with disabilities\, and those who are aging! \nThis is a great chance to connect with community partners and learn about available resources right here in our community. \n\nAll ages are welcome\nAdmission is free\n\nGeneral Questions:\nCarolyn Webb\ncarolyn@tilinet.org\n707.445.8404 Ext 701 \nSponsorship or Vendor Opportunities:\nAnisa Escobedo\na.escobedo@tilinet.org\n707.445.8404 Ext 716 \nEvent Page: https://tilinet.org/expo/
URL:https://tilinet.org/event/tcil-expo-2025/
LOCATION:Sequoia Conference Center\, 901 Myrtle Avenue\, Eureka\, 95501\, United States
CATEGORIES:TCIL Event's
ORGANIZER;CN="Armando P. Escobedo":MAILTO:a.escobedo@tilinet.org
END:VEVENT
BEGIN:VEVENT
DTSTART;VALUE=DATE:20250929
DTEND;VALUE=DATE:20251006
DTSTAMP:20260424T013318
CREATED:20250805T040720Z
LAST-MODIFIED:20250805T040801Z
UID:4488-1759104000-1759708799@tilinet.org
SUMMARY:Week Without Driving Campaign
DESCRIPTION:If you can drive or afford a car\, you may not understand what it’s like to rely on walking\, rolling\, transit and asking for rides. But for nearly a third of people living in the United States – people with disabilities\, young people\, seniors and people who can’t afford cars or gas – this is our every day. \nWe created the Week Without Driving experience so that those who have the option to drive can learn firsthand about the barriers and challenges that nondrivers face and work with nondrivers to create more accessible communities for all. \n 
URL:https://tilinet.org/event/week-without-driving-campaign/
CATEGORIES:Community Events
ATTACH;FMTTYPE=image/png:https://tilinet.org/wp-content/uploads/WWD-2025-flyer.png
END:VEVENT
END:VCALENDAR