BEGIN:VCALENDAR
VERSION:2.0
PRODID:-//Tri-County Independent Living (TCIL) - ECPv6.15.20//NONSGML v1.0//EN
CALSCALE:GREGORIAN
METHOD:PUBLISH
X-WR-CALNAME:Tri-County Independent Living (TCIL)
X-ORIGINAL-URL:https://tilinet.org
X-WR-CALDESC:Events for Tri-County Independent Living (TCIL)
REFRESH-INTERVAL;VALUE=DURATION:PT1H
X-Robots-Tag:noindex
X-PUBLISHED-TTL:PT1H
BEGIN:VTIMEZONE
TZID:UTC
BEGIN:STANDARD
TZOFFSETFROM:+0000
TZOFFSETTO:+0000
TZNAME:UTC
DTSTART:20240101T000000
END:STANDARD
END:VTIMEZONE
BEGIN:VEVENT
DTSTART;VALUE=DATE:20251111
DTEND;VALUE=DATE:20251112
DTSTAMP:20260423T222041
CREATED:20250322T081825Z
LAST-MODIFIED:20250322T081825Z
UID:4050-1762819200-1762905599@tilinet.org
SUMMARY:Offices Closed - Veterans’ Day
DESCRIPTION:
URL:https://tilinet.org/event/offices-closed-veterans-day/
CATEGORIES:TCIL Event's
END:VEVENT
BEGIN:VEVENT
DTSTART;TZID=UTC:20251121T130000
DTEND;TZID=UTC:20251121T143000
DTSTAMP:20260423T222041
CREATED:20250311T204907Z
LAST-MODIFIED:20250311T204907Z
UID:4039-1763730000-1763735400@tilinet.org
SUMMARY:TCIL’s Emergency Plan Workshop – Del Norte County
DESCRIPTION:We are proud to announce that TRI-COUNTY INDEPENDENT LIVING will be offering an emergency plan workshop for all TCIL clients and interested community members that would like to learn how to create and implement an Emergency Plan for themselves and/or their families. You will also receive an Emergency Go Backpack at the end of the workshop to take home as a starting point for an emergency kit. This workshop will be held on the 3rd Friday of every other month. Light refreshments will be provided.
URL:https://tilinet.org/event/tcils-emergency-plan-workshop-del-norte-county/
LOCATION:Rural Human Services\, 286 M St. Suite A\, Crescent City\, 95531\, United States
CATEGORIES:Community Events,Disability Disaster Access & Resources
ORGANIZER;CN="Tara Groswird":MAILTO:tara@tilinet.org
END:VEVENT
BEGIN:VEVENT
DTSTART;VALUE=DATE:20251127
DTEND;VALUE=DATE:20251129
DTSTAMP:20260423T222041
CREATED:20250322T082022Z
LAST-MODIFIED:20250322T082038Z
UID:4052-1764201600-1764374399@tilinet.org
SUMMARY:Offices Closed - Thanksgiving & Day After
DESCRIPTION:
URL:https://tilinet.org/event/office-closed-thanksgiving-day-after/
CATEGORIES:TCIL Event's
END:VEVENT
END:VCALENDAR