BEGIN:VCALENDAR
VERSION:2.0
PRODID:-//Tri-County Independent Living (TCIL) - ECPv6.15.20//NONSGML v1.0//EN
CALSCALE:GREGORIAN
METHOD:PUBLISH
X-WR-CALNAME:Tri-County Independent Living (TCIL)
X-ORIGINAL-URL:https://tilinet.org
X-WR-CALDESC:Events for Tri-County Independent Living (TCIL)
REFRESH-INTERVAL;VALUE=DURATION:PT1H
X-Robots-Tag:noindex
X-PUBLISHED-TTL:PT1H
BEGIN:VTIMEZONE
TZID:UTC
BEGIN:STANDARD
TZOFFSETFROM:+0000
TZOFFSETTO:+0000
TZNAME:UTC
DTSTART:20240101T000000
END:STANDARD
END:VTIMEZONE
BEGIN:VEVENT
DTSTART;TZID=UTC:20251210T110000
DTEND;TZID=UTC:20251210T220000
DTSTAMP:20260423T204451
CREATED:20251205T051241Z
LAST-MODIFIED:20251205T051448Z
UID:4773-1765364400-1765404000@tilinet.org
SUMMARY:North Coast ADRC Pints for Nonprofits
DESCRIPTION:
URL:https://tilinet.org/event/north-coast-adrc-pints-for-nonprofits/
LOCATION:Redwood Curtain Brewing Company\, 1595 Myrtle Avenue\, Suite B\, Eureka\, CA\, 95501\, United States
CATEGORIES:Community Events,TCIL Event's
ATTACH;FMTTYPE=image/png:https://tilinet.org/wp-content/uploads/Join-us-for-Pints-for-Non-Profits-2.png
ORGANIZER;CN="Lisa Leon":MAILTO:lisa@tilinet.org
END:VEVENT
BEGIN:VEVENT
DTSTART;TZID=UTC:20251210T163000
DTEND;TZID=UTC:20251210T173000
DTSTAMP:20260423T204451
CREATED:20251124T180756Z
LAST-MODIFIED:20251205T060530Z
UID:4711-1765384200-1765387800@tilinet.org
SUMMARY:TCIL's Monthly Peer Support Group
DESCRIPTION:Peer Support Group Details \nTopic: Peer Support Group-Monthly \nPlease download and import the following iCalendar (.ics) files to your calendar system.\nMonthly: https://us06web.zoom.us/meeting/tZYsc–opjIiHNypVK_dx9ILt5B7jaSJqwKp/ics?icsToken=DMqVIcdIwtBlpbOIjgAALAAAAJi3LQxa7HlqfSly0joj7Ku7ZOVSO7XBOcXi0rliz6W9WtKh3TrJyBaQqyS64LCUgRq5JpoI55Zq161IgTAwMDAwMQ&meetingMasterEventId=_h3oEevyQ3mTeCnRiTkj5Q\nJoin Zoom Meeting\nhttps://us06web.zoom.us/j/82146089868?pwd=EXnDYLeNaLrVG10v97NQ2IW1kLQ0ZS.1 \nMeeting ID: 821 4608 9868\nPasscode: 967599 \n— \nOne tap mobile\n+16694449171\,\,82146089868#\,\,\,\,*967599# US\n+13462487799\,\,82146089868#\,\,\,\,*967599# US (Houston) \nJoin instructions\nhttps://us06web.zoom.us/meetings/82146089868/invitations?signature=a20fPDWgjXds8ZpHl6JBZq8VErifDEJK7Jbobu6OCyg
URL:https://tilinet.org/event/tcils-monthly-peer-support-group/
LOCATION:Online
CATEGORIES:Peer Support Group,TCIL Event's
ATTACH;FMTTYPE=image/png:https://tilinet.org/wp-content/uploads/peer-support-group-1.png
ORGANIZER;CN="Jessica Warrick":MAILTO:jessica@tilinet.org
END:VEVENT
BEGIN:VEVENT
DTSTART;VALUE=DATE:20251225
DTEND;VALUE=DATE:20251226
DTSTAMP:20260423T204451
CREATED:20250322T082144Z
LAST-MODIFIED:20250322T082144Z
UID:4055-1766620800-1766707199@tilinet.org
SUMMARY:Offices Closed - Christmas Day
DESCRIPTION:
URL:https://tilinet.org/event/offices-closed-christmas-day/
CATEGORIES:TCIL Event's
END:VEVENT
END:VCALENDAR